BEGIN:VCALENDAR
VERSION:2.0
PRODID:-//FKV Online - ECPv6.15.17.1//NONSGML v1.0//EN
CALSCALE:GREGORIAN
METHOD:PUBLISH
X-WR-CALNAME:FKV Online
X-ORIGINAL-URL:https://fkvonline.de
X-WR-CALDESC:Veranstaltungen für FKV Online
REFRESH-INTERVAL;VALUE=DURATION:PT1H
X-Robots-Tag:noindex
X-PUBLISHED-TTL:PT1H
BEGIN:VTIMEZONE
TZID:Europe/Berlin
BEGIN:DAYLIGHT
TZOFFSETFROM:+0100
TZOFFSETTO:+0200
TZNAME:CEST
DTSTART:20250330T010000
END:DAYLIGHT
BEGIN:STANDARD
TZOFFSETFROM:+0200
TZOFFSETTO:+0100
TZNAME:CET
DTSTART:20251026T010000
END:STANDARD
BEGIN:DAYLIGHT
TZOFFSETFROM:+0100
TZOFFSETTO:+0200
TZNAME:CEST
DTSTART:20260329T010000
END:DAYLIGHT
BEGIN:STANDARD
TZOFFSETFROM:+0200
TZOFFSETTO:+0100
TZNAME:CET
DTSTART:20261025T010000
END:STANDARD
BEGIN:DAYLIGHT
TZOFFSETFROM:+0100
TZOFFSETTO:+0200
TZNAME:CEST
DTSTART:20270328T010000
END:DAYLIGHT
BEGIN:STANDARD
TZOFFSETFROM:+0200
TZOFFSETTO:+0100
TZNAME:CET
DTSTART:20271031T010000
END:STANDARD
END:VTIMEZONE
BEGIN:VEVENT
DTSTART;VALUE=DATE:20260418
DTEND;VALUE=DATE:20260419
DTSTAMP:20260419T161712
CREATED:20250403T194231Z
LAST-MODIFIED:20250403T194231Z
UID:5475-1776470400-1776556799@fkvonline.de
SUMMARY:LMM Boßeln OL / LMM Boßeln OS Jugend
DESCRIPTION:
URL:https://fkvonline.de/event/lmm-bosseln-ol-lmm-bosseln-os-jugend-4/
CATEGORIES:Veranstaltung
END:VEVENT
BEGIN:VEVENT
DTSTART;VALUE=DATE:20260412
DTEND;VALUE=DATE:20260413
DTSTAMP:20260419T161712
CREATED:20250403T194231Z
LAST-MODIFIED:20250403T194231Z
UID:5474-1775952000-1776038399@fkvonline.de
SUMMARY:FKV-Finalrunde
DESCRIPTION:
URL:https://fkvonline.de/event/fkv-finalrunde-4/
CATEGORIES:Veranstaltung
END:VEVENT
BEGIN:VEVENT
DTSTART;VALUE=DATE:20260411
DTEND;VALUE=DATE:20260412
DTSTAMP:20260419T161712
CREATED:20250403T194224Z
LAST-MODIFIED:20250403T194224Z
UID:5473-1775865600-1775951999@fkvonline.de
SUMMARY:Landesmeisterschaften Boßeln FIII/IV Männer IV/V / Aufstieg OS
DESCRIPTION:
URL:https://fkvonline.de/event/landesmeisterschaften-bosseln-fiii-iv-maenner-iv-v-aufstieg-os-2/
CATEGORIES:Veranstaltung
END:VEVENT
BEGIN:VEVENT
DTSTART;VALUE=DATE:20260405
DTEND;VALUE=DATE:20260406
DTSTAMP:20260419T161712
CREATED:20250403T194224Z
LAST-MODIFIED:20250403T194224Z
UID:5472-1775347200-1775433599@fkvonline.de
SUMMARY:Ostermontag
DESCRIPTION:
URL:https://fkvonline.de/event/ostermontag-4/
CATEGORIES:Veranstaltung
END:VEVENT
BEGIN:VEVENT
DTSTART;VALUE=DATE:20260405
DTEND;VALUE=DATE:20260406
DTSTAMP:20260419T161712
CREATED:20250403T194224Z
LAST-MODIFIED:20250403T194224Z
UID:5471-1775347200-1775433599@fkvonline.de
SUMMARY:Ostern
DESCRIPTION:
URL:https://fkvonline.de/event/ostern-4/
CATEGORIES:Veranstaltung
END:VEVENT
BEGIN:VEVENT
DTSTART;VALUE=DATE:20260403
DTEND;VALUE=DATE:20260404
DTSTAMP:20260419T161712
CREATED:20250403T194224Z
LAST-MODIFIED:20250403T194224Z
UID:5470-1775174400-1775260799@fkvonline.de
SUMMARY:Karfreitag
DESCRIPTION:
URL:https://fkvonline.de/event/karfreitag-4/
CATEGORIES:Veranstaltung
END:VEVENT
BEGIN:VEVENT
DTSTART;VALUE=DATE:20260322
DTEND;VALUE=DATE:20260323
DTSTAMP:20260419T161712
CREATED:20250403T194224Z
LAST-MODIFIED:20250403T194224Z
UID:5469-1774137600-1774223999@fkvonline.de
SUMMARY:14. Spieltag OL/ 18. Spieltag Männer OS
DESCRIPTION:
URL:https://fkvonline.de/event/14-spieltag-ol-18-spieltag-maenner-os-2/
CATEGORIES:Veranstaltung
END:VEVENT
BEGIN:VEVENT
DTSTART;VALUE=DATE:20260321
DTEND;VALUE=DATE:20260322
DTSTAMP:20260419T161712
CREATED:20250403T194214Z
LAST-MODIFIED:20250403T194214Z
UID:5467-1774051200-1774137599@fkvonline.de
SUMMARY:18. Spieltag Frauen OS
DESCRIPTION:
URL:https://fkvonline.de/event/18-spieltag-frauen-os-4/
CATEGORIES:Veranstaltung
END:VEVENT
BEGIN:VEVENT
DTSTART;VALUE=DATE:20260315
DTEND;VALUE=DATE:20260316
DTSTAMP:20260419T161712
CREATED:20250403T194214Z
LAST-MODIFIED:20250403T194214Z
UID:5466-1773532800-1773619199@fkvonline.de
SUMMARY:Landespokal Finale OL / Nachholspieltag
DESCRIPTION:
URL:https://fkvonline.de/event/landespokal-finale-ol-nachholspieltag-2/
CATEGORIES:Veranstaltung
END:VEVENT
BEGIN:VEVENT
DTSTART;VALUE=DATE:20260314
DTEND;VALUE=DATE:20260315
DTSTAMP:20260419T161712
CREATED:20250403T194214Z
LAST-MODIFIED:20250403T194214Z
UID:5465-1773446400-1773532799@fkvonline.de
SUMMARY:Nachholspieltag
DESCRIPTION:
URL:https://fkvonline.de/event/nachholspieltag-10/
CATEGORIES:Veranstaltung
END:VEVENT
BEGIN:VEVENT
DTSTART;VALUE=DATE:20260308
DTEND;VALUE=DATE:20260309
DTSTAMP:20260419T161712
CREATED:20250403T194214Z
LAST-MODIFIED:20250403T194214Z
UID:5464-1772928000-1773014399@fkvonline.de
SUMMARY:13. Spieltag OL / 17. Spieltag Männer OS
DESCRIPTION:
URL:https://fkvonline.de/event/13-spieltag-ol-17-spieltag-maenner-os-4/
CATEGORIES:Veranstaltung
END:VEVENT
BEGIN:VEVENT
DTSTART;VALUE=DATE:20260307
DTEND;VALUE=DATE:20260308
DTSTAMP:20260419T161712
CREATED:20250403T194214Z
LAST-MODIFIED:20250403T194214Z
UID:5463-1772841600-1772927999@fkvonline.de
SUMMARY:Ersatzfeldkampf
DESCRIPTION:
URL:https://fkvonline.de/event/ersatzfeldkampf-4/
CATEGORIES:Veranstaltung
END:VEVENT
BEGIN:VEVENT
DTSTART;VALUE=DATE:20260307
DTEND;VALUE=DATE:20260308
DTSTAMP:20260419T161712
CREATED:20250403T194206Z
LAST-MODIFIED:20250403T194206Z
UID:5462-1772841600-1772927999@fkvonline.de
SUMMARY:17. Spieltag Frauen OS
DESCRIPTION:
URL:https://fkvonline.de/event/17-spieltag-frauen-os-4/
CATEGORIES:Veranstaltung
END:VEVENT
BEGIN:VEVENT
DTSTART;VALUE=DATE:20260301
DTEND;VALUE=DATE:20260302
DTSTAMP:20260419T161712
CREATED:20250403T194206Z
LAST-MODIFIED:20250403T194206Z
UID:5461-1772323200-1772409599@fkvonline.de
SUMMARY:Landespokal OL / 16. Spieltag Männer OS
DESCRIPTION:
URL:https://fkvonline.de/event/landespokal-ol-16-spieltag-maenner-os-2/
CATEGORIES:Veranstaltung
END:VEVENT
BEGIN:VEVENT
DTSTART;VALUE=DATE:20260228
DTEND;VALUE=DATE:20260301
DTSTAMP:20260419T161712
CREATED:20250403T194206Z
LAST-MODIFIED:20250403T194206Z
UID:5460-1772236800-1772323199@fkvonline.de
SUMMARY:16. Spieltag Frauen OS
DESCRIPTION:
URL:https://fkvonline.de/event/16-spieltag-frauen-os-4/
CATEGORIES:Veranstaltung
END:VEVENT
BEGIN:VEVENT
DTSTART;VALUE=DATE:20260222
DTEND;VALUE=DATE:20260223
DTSTAMP:20260419T161712
CREATED:20250403T194206Z
LAST-MODIFIED:20250403T194206Z
UID:5459-1771718400-1771804799@fkvonline.de
SUMMARY:12. Spieltag OL / 15. Spieltag Männer OS
DESCRIPTION:
URL:https://fkvonline.de/event/12-spieltag-ol-15-spieltag-maenner-os-2/
CATEGORIES:Veranstaltung
END:VEVENT
BEGIN:VEVENT
DTSTART;VALUE=DATE:20260221
DTEND;VALUE=DATE:20260222
DTSTAMP:20260419T161712
CREATED:20250403T194206Z
LAST-MODIFIED:20250403T194206Z
UID:5458-1771632000-1771718399@fkvonline.de
SUMMARY:15. Spieltag Frauen OS
DESCRIPTION:
URL:https://fkvonline.de/event/15-spieltag-frauen-os-4/
CATEGORIES:Veranstaltung
END:VEVENT
BEGIN:VEVENT
DTSTART;VALUE=DATE:20260215
DTEND;VALUE=DATE:20260216
DTSTAMP:20260419T161712
CREATED:20250403T194157Z
LAST-MODIFIED:20250403T194157Z
UID:5457-1771113600-1771199999@fkvonline.de
SUMMARY:11. Spieltag OL / 14. Spieltag Männer OS
DESCRIPTION:
URL:https://fkvonline.de/event/11-spieltag-ol-14-spieltag-maenner-os-2/
CATEGORIES:Veranstaltung
END:VEVENT
BEGIN:VEVENT
DTSTART;VALUE=DATE:20260214
DTEND;VALUE=DATE:20260215
DTSTAMP:20260419T161712
CREATED:20250403T194157Z
LAST-MODIFIED:20250403T194157Z
UID:5456-1771027200-1771113599@fkvonline.de
SUMMARY:14. Spieltag Frauen OS
DESCRIPTION:
URL:https://fkvonline.de/event/14-spieltag-frauen-os-4/
CATEGORIES:Veranstaltung
END:VEVENT
BEGIN:VEVENT
DTSTART;VALUE=DATE:20260208
DTEND;VALUE=DATE:20260209
DTSTAMP:20260419T161712
CREATED:20250403T194157Z
LAST-MODIFIED:20250403T194157Z
UID:5455-1770508800-1770595199@fkvonline.de
SUMMARY:10. Spieltag OL/ 13. Spieltag Männer OS
DESCRIPTION:
URL:https://fkvonline.de/event/10-spieltag-ol-13-spieltag-maenner-os-2/
CATEGORIES:Veranstaltung
END:VEVENT
BEGIN:VEVENT
DTSTART;VALUE=DATE:20260207
DTEND;VALUE=DATE:20260208
DTSTAMP:20260419T161712
CREATED:20250403T194157Z
LAST-MODIFIED:20250403T194157Z
UID:5454-1770422400-1770508799@fkvonline.de
SUMMARY:13. Spieltag Frauen OS
DESCRIPTION:
URL:https://fkvonline.de/event/13-spieltag-frauen-os-4/
CATEGORIES:Veranstaltung
END:VEVENT
BEGIN:VEVENT
DTSTART;VALUE=DATE:20260206
DTEND;VALUE=DATE:20260207
DTSTAMP:20260419T161712
CREATED:20250403T194157Z
LAST-MODIFIED:20250403T194157Z
UID:5453-1770336000-1770422399@fkvonline.de
SUMMARY:Fristende Anträge zur JHV FKV
DESCRIPTION:
URL:https://fkvonline.de/event/fristende-antraege-zur-jhv-fkv-4/
CATEGORIES:Veranstaltung
END:VEVENT
BEGIN:VEVENT
DTSTART;VALUE=DATE:20260201
DTEND;VALUE=DATE:20260202
DTSTAMP:20260419T161712
CREATED:20250403T194152Z
LAST-MODIFIED:20250403T194152Z
UID:5452-1769904000-1769990399@fkvonline.de
SUMMARY:Nachholspieltag
DESCRIPTION:
URL:https://fkvonline.de/event/nachholspieltag-9/
CATEGORIES:Veranstaltung
END:VEVENT
BEGIN:VEVENT
DTSTART;TZID=Europe/Berlin:20260131T090000
DTEND;TZID=Europe/Berlin:20260131T130000
DTSTAMP:20260419T161712
CREATED:20260129T134517Z
LAST-MODIFIED:20260129T134517Z
UID:7328-1769850000-1769864400@fkvonline.de
SUMMARY:CT Nachol-Etappe 31. Januar 2026
DESCRIPTION:Da am kommenden Wochenende kein Feldkampf stattfinden kann\, bekommen die Boßler im Rahmen der Championstour\, sich für die Teilnahme an den Deutschen Meisterschaften in Position zu bringen. Einladung und Startlisten stehen hier zum Download zur Verfügung.
URL:https://fkvonline.de/event/ct-nachol-etappe-31-januar-2026/
CATEGORIES:Veranstaltung
END:VEVENT
BEGIN:VEVENT
DTSTART;VALUE=DATE:20260131
DTEND;VALUE=DATE:20260201
DTSTAMP:20260419T161712
CREATED:20250403T194152Z
LAST-MODIFIED:20250403T194152Z
UID:5451-1769817600-1769903999@fkvonline.de
SUMMARY:Nachholspieltag
DESCRIPTION:
URL:https://fkvonline.de/event/nachholspieltag-8/
CATEGORIES:Veranstaltung
END:VEVENT
BEGIN:VEVENT
DTSTART;VALUE=DATE:20260125
DTEND;VALUE=DATE:20260126
DTSTAMP:20260419T161712
CREATED:20250403T194152Z
LAST-MODIFIED:20250403T194152Z
UID:5450-1769299200-1769385599@fkvonline.de
SUMMARY:9. Spieltag OL / 12. Spieltag Männer OS
DESCRIPTION:
URL:https://fkvonline.de/event/9-spieltag-ol-12-spieltag-maenner-os-4/
CATEGORIES:Veranstaltung
END:VEVENT
BEGIN:VEVENT
DTSTART;VALUE=DATE:20260124
DTEND;VALUE=DATE:20260125
DTSTAMP:20260419T161712
CREATED:20250403T194152Z
LAST-MODIFIED:20250403T194152Z
UID:5449-1769212800-1769299199@fkvonline.de
SUMMARY:12. Spieltag Frauen OS
DESCRIPTION:
URL:https://fkvonline.de/event/12-spieltag-frauen-os-4/
CATEGORIES:Veranstaltung
END:VEVENT
BEGIN:VEVENT
DTSTART;VALUE=DATE:20260118
DTEND;VALUE=DATE:20260119
DTSTAMP:20260419T161712
CREATED:20250403T194152Z
LAST-MODIFIED:20250403T194152Z
UID:5448-1768694400-1768780799@fkvonline.de
SUMMARY:4. Runde Landespokal OL / 11. Spieltag Männer OS
DESCRIPTION:
URL:https://fkvonline.de/event/4-runde-landespokal-ol-11-spieltag-maenner-os-4/
CATEGORIES:Veranstaltung
END:VEVENT
BEGIN:VEVENT
DTSTART;VALUE=DATE:20260117
DTEND;VALUE=DATE:20260118
DTSTAMP:20260419T161712
CREATED:20250403T194150Z
LAST-MODIFIED:20250403T194150Z
UID:5447-1768608000-1768694399@fkvonline.de
SUMMARY:11. Spieltag Frauen OS
DESCRIPTION:
URL:https://fkvonline.de/event/11-spieltag-frauen-os-4/
CATEGORIES:Veranstaltung
END:VEVENT
BEGIN:VEVENT
DTSTART;VALUE=DATE:20260111
DTEND;VALUE=DATE:20260112
DTSTAMP:20260419T161712
CREATED:20250403T194150Z
LAST-MODIFIED:20250403T194150Z
UID:5446-1768089600-1768175999@fkvonline.de
SUMMARY:8. Spieltag OL / 10. Spieltag Männer OS
DESCRIPTION:
URL:https://fkvonline.de/event/8-spieltag-ol-10-spieltag-maenner-os-4/
CATEGORIES:Veranstaltung
END:VEVENT
END:VCALENDAR