BEGIN:VCALENDAR
VERSION:2.0
PRODID:-//FKV Online - ECPv6.15.17.1//NONSGML v1.0//EN
CALSCALE:GREGORIAN
METHOD:PUBLISH
X-ORIGINAL-URL:https://fkvonline.de
X-WR-CALDESC:Veranstaltungen für FKV Online
REFRESH-INTERVAL;VALUE=DURATION:PT1H
X-Robots-Tag:noindex
X-PUBLISHED-TTL:PT1H
BEGIN:VTIMEZONE
TZID:Europe/Berlin
BEGIN:DAYLIGHT
TZOFFSETFROM:+0100
TZOFFSETTO:+0200
TZNAME:CEST
DTSTART:20250330T010000
END:DAYLIGHT
BEGIN:STANDARD
TZOFFSETFROM:+0200
TZOFFSETTO:+0100
TZNAME:CET
DTSTART:20251026T010000
END:STANDARD
BEGIN:DAYLIGHT
TZOFFSETFROM:+0100
TZOFFSETTO:+0200
TZNAME:CEST
DTSTART:20260329T010000
END:DAYLIGHT
BEGIN:STANDARD
TZOFFSETFROM:+0200
TZOFFSETTO:+0100
TZNAME:CET
DTSTART:20261025T010000
END:STANDARD
BEGIN:DAYLIGHT
TZOFFSETFROM:+0100
TZOFFSETTO:+0200
TZNAME:CEST
DTSTART:20270328T010000
END:DAYLIGHT
BEGIN:STANDARD
TZOFFSETFROM:+0200
TZOFFSETTO:+0100
TZNAME:CET
DTSTART:20271031T010000
END:STANDARD
END:VTIMEZONE
BEGIN:VEVENT
DTSTART;VALUE=DATE:20260529
DTEND;VALUE=DATE:20260601
DTSTAMP:20260419T162004
CREATED:20250403T194249Z
LAST-MODIFIED:20250403T194249Z
UID:5488-1780012800-1780271999@fkvonline.de
SUMMARY:Kreiseinzelmeisterschaften Boßeln
DESCRIPTION:
URL:https://fkvonline.de/event/kreiseinzelmeisterschaften-bosseln-7/
CATEGORIES:Veranstaltung
END:VEVENT
BEGIN:VEVENT
DTSTART;VALUE=DATE:20260605
DTEND;VALUE=DATE:20260608
DTSTAMP:20260419T162004
CREATED:20250403T194258Z
LAST-MODIFIED:20250403T194258Z
UID:5489-1780617600-1780876799@fkvonline.de
SUMMARY:Kreiseinzelmeisterschaften Boßeln
DESCRIPTION:
URL:https://fkvonline.de/event/kreiseinzelmeisterschaften-bosseln-8/
CATEGORIES:Veranstaltung
END:VEVENT
BEGIN:VEVENT
DTSTART;VALUE=DATE:20260612
DTEND;VALUE=DATE:20260615
DTSTAMP:20260419T162004
CREATED:20250403T194258Z
LAST-MODIFIED:20250403T194258Z
UID:5490-1781222400-1781481599@fkvonline.de
SUMMARY:Landeseinzelmeisterschaften Boßeln
DESCRIPTION:
URL:https://fkvonline.de/event/landeseinzelmeisterschaften-bosseln-4/
CATEGORIES:Veranstaltung
END:VEVENT
BEGIN:VEVENT
DTSTART;VALUE=DATE:20260620
DTEND;VALUE=DATE:20260622
DTSTAMP:20260419T162004
CREATED:20250403T194258Z
LAST-MODIFIED:20250403T194258Z
UID:5491-1781913600-1782086399@fkvonline.de
SUMMARY:FKV Einzelmeisterschaften
DESCRIPTION:
URL:https://fkvonline.de/event/fkv-einzelmeisterschaften-4/
CATEGORIES:Veranstaltung
END:VEVENT
BEGIN:VEVENT
DTSTART;VALUE=DATE:20260626
DTEND;VALUE=DATE:20260627
DTSTAMP:20260419T162004
CREATED:20250403T194259Z
LAST-MODIFIED:20250403T194259Z
UID:5492-1782432000-1782518399@fkvonline.de
SUMMARY:Championstour Finale Boßeln
DESCRIPTION:
URL:https://fkvonline.de/event/championstour-finale-bosseln-2/
CATEGORIES:Veranstaltung
END:VEVENT
BEGIN:VEVENT
DTSTART;VALUE=DATE:20260627
DTEND;VALUE=DATE:20260628
DTSTAMP:20260419T162004
CREATED:20250403T194259Z
LAST-MODIFIED:20250403T194259Z
UID:5493-1782518400-1782604799@fkvonline.de
SUMMARY:Jugend CT 5. Werfen
DESCRIPTION:
URL:https://fkvonline.de/event/jugend-ct-5-werfen-2/
CATEGORIES:Veranstaltung
END:VEVENT
END:VCALENDAR